BEGIN:VCALENDAR
VERSION:2.0
BEGIN:VEVENT
URL:https://pedagogi.yartel.ru/events/viewevent/7-okruzhnoj-konkurs-tvorcheskikh-rabot-posvyashchennykh-mezhdunarodnomu-dnyu-semi-moya-sem-ya 
DTSTART:20220420T080000
DTEND:20220507T001500
SUMMARY:окружной конкурс, творческих работ, посвященных  Международному Дню семьи «Моя Семь+Я».     
DESCRIPTION:<p>окружной конкурс, творческих работ, посвященных  Международному Дню семьи «Моя Семь+Я».     </p><p>Работы участников принимаются до 7 мая  2022 года по электронным адресам: 
</p><p>rc@rc.yartel.ru, zadorojnaya@rc.yartel.ru:   
</p><p><br /></p>
LOCATION:ГБУ ДПО СО "Красноярский РЦ"
END:VEVENT
END:VCALENDAR