BEGIN:VCALENDAR
VERSION:2.0
BEGIN:VEVENT
URL:https://pedagogi.yartel.ru/events/viewevent/6-provedenii-vyezdnogo-rajonnogo-praktiko-orientirovannogo-seminara-dlya-uchitelej-nachalnykh-klassov-v-ochnom-formate-v-obrazovatelnykh-uchrezhdeniyakh-m-r-koshkinskij 
DTSTART:20220427T100000
DTEND:20220427T101500
SUMMARY:Проведении выездного районного практико-ориентированного семинара для учителей начальных классов в очном формате, в образовательных учреждениях м.р.Кошкинский
DESCRIPTION:<p>О проведении выездного районного практико-ориентированного семинара для учителей начальных классов в очном формате, в образовательных учреждениях м.р.Кошкинский</p><p>Уважаемые коллеги! 
</p><p>Семинар состоится 27.04.2022г. в 10-00 на базе ГБОУ СОШ с.Кошки, конференц-зал.
</p><p>Тема семинара: «Развитие функциональной грамотности на уроках в начальной школе».
</p><p>Желающие выступить и поделиться опытом, присылайте темы своих докладов на электронную почту Трегубенко И.В. 
</p><p>tregubencko.ira@yandex.ru до 24.04.2022г.
</p><p>С уважением,
</p><p>методист ГБУ ДПО СО «Красноярский РЦ»
</p><p> Трегубенко Ирина Валерьевна,     
</p><p>Телефон:(884650)2-36-89
</p><p><br /></p>
LOCATION:ГБОУ СОШ с.Кошки, конференц-зал.
END:VEVENT
END:VCALENDAR