BEGIN:VCALENDAR
VERSION:2.0
BEGIN:VEVENT
URL:https://pedagogi.yartel.ru/events/viewevent/4-omo?groupid=21 
DTSTART:20200327T100000
DTEND:20200327T101500
SUMMARY:ОМО 
DESCRIPTION:
LOCATION:Северо-Западный округ
END:VEVENT
END:VCALENDAR