BEGIN:VCALENDAR
VERSION:2.0
BEGIN:VEVENT
URL:https://pedagogi.yartel.ru/events/viewevent/2-aktsiya-vserossijskogo-tematicheskogo-uroka-chas-koda 
DTSTART:20161209T000000
DTEND:20161209T001500
SUMMARY:Акция Всероссийского тематического урока "Час кода" 
DESCRIPTION:В ГБОУ ООШ с.Старая Ивановка  с 5по 8  декабря 2016г.  прошла Всероссийская  акция «Час кода»   в рамках Международной недели изучения информатики и Дня информатики в России.  Акция была направлена на формирование и поддержку интереса молодежи к изучению информатики и программирования, а также повышению престижности ИТ-специальностей в глазах молодых людей.

В качестве участников акции выступили учащиеся 7-9 классов. 
Первая часть — яркая лекция-обращение представителей ведущих ИТ-компаний к молодежи, в которой они делились своим взглядом на перспективу развития информационных технологий, на то, как изменится мир, когда молодые люди закончат вузы, и рассказывали о том, чем ИТ может привлечь молодых людей, мечтающих добиться успеха в будущем.

Вторая часть — онлайн тренажеры. Работа в тренажере строилась по принципу решения забавных головоломок и помогала подкрепить интерес учащихся, возникший во время проведения первого блока занятия, а также дала возможность сразу, на практике, проверить свои способности к программированию.

LOCATION:446808 Самарская область, Кошкинский район, с.Старая Иванова, ул.Центральная,2
END:VEVENT
END:VCALENDAR